BEGIN:VCALENDAR
VERSION:2.0
PRODID:-//Truckee Trails Foundation - ECPv6.15.10//NONSGML v1.0//EN
CALSCALE:GREGORIAN
METHOD:PUBLISH
X-ORIGINAL-URL:https://truckeetrails.org
X-WR-CALDESC:Events for Truckee Trails Foundation
REFRESH-INTERVAL;VALUE=DURATION:PT1H
X-Robots-Tag:noindex
X-PUBLISHED-TTL:PT1H
BEGIN:VTIMEZONE
TZID:America/Los_Angeles
BEGIN:DAYLIGHT
TZOFFSETFROM:-0800
TZOFFSETTO:-0700
TZNAME:PDT
DTSTART:20150308T100000
END:DAYLIGHT
BEGIN:STANDARD
TZOFFSETFROM:-0700
TZOFFSETTO:-0800
TZNAME:PST
DTSTART:20151101T090000
END:STANDARD
BEGIN:DAYLIGHT
TZOFFSETFROM:-0800
TZOFFSETTO:-0700
TZNAME:PDT
DTSTART:20160313T100000
END:DAYLIGHT
BEGIN:STANDARD
TZOFFSETFROM:-0700
TZOFFSETTO:-0800
TZNAME:PST
DTSTART:20161106T090000
END:STANDARD
BEGIN:DAYLIGHT
TZOFFSETFROM:-0800
TZOFFSETTO:-0700
TZNAME:PDT
DTSTART:20170312T100000
END:DAYLIGHT
BEGIN:STANDARD
TZOFFSETFROM:-0700
TZOFFSETTO:-0800
TZNAME:PST
DTSTART:20171105T090000
END:STANDARD
END:VTIMEZONE
BEGIN:VEVENT
DTSTART;TZID=America/Los_Angeles:20160624T110000
DTEND;TZID=America/Los_Angeles:20160624T130000
DTSTAMP:20260423T002704
CREATED:20160609T071200Z
LAST-MODIFIED:20160609T072507Z
UID:434-1466766000-1466773200@truckeetrails.org
SUMMARY:Tahoe Sports Hub Pint Night
DESCRIPTION:Join us at Tahoe Sports Hub to celebrate the great outdoors with RootsRated and Salomon Running! From 6-8pm to enjoy live music\, outdoor trivia\, Salomon gear raffles and ice-cold drafts from Deschutes Brewery! \nA suggested $5 donation to the Truckee Trails Foundation gets you a few cold brews and entry into the raffle! \nWe hope to see you there! \nLET US KNOW YOU’RE COMING
URL:https://truckeetrails.org/event/tahoe-sports-hub-pint-night/
CATEGORIES:Tahoe Sports Hub Pint Night
ATTACH;FMTTYPE=image/png:https://truckeetrails.org/wp-content/uploads/2016/06/Screen-Shot-2016-06-08-at-5.08.53-PM.png
END:VEVENT
END:VCALENDAR