BEGIN:VCALENDAR
VERSION:2.0
PRODID:-//Truckee Trails Foundation - ECPv6.15.10//NONSGML v1.0//EN
CALSCALE:GREGORIAN
METHOD:PUBLISH
X-WR-CALNAME:Truckee Trails Foundation
X-ORIGINAL-URL:https://truckeetrails.org
X-WR-CALDESC:Events for Truckee Trails Foundation
REFRESH-INTERVAL;VALUE=DURATION:PT1H
X-Robots-Tag:noindex
X-PUBLISHED-TTL:PT1H
BEGIN:VTIMEZONE
TZID:America/Los_Angeles
BEGIN:DAYLIGHT
TZOFFSETFROM:-0800
TZOFFSETTO:-0700
TZNAME:PDT
DTSTART:20150308T100000
END:DAYLIGHT
BEGIN:STANDARD
TZOFFSETFROM:-0700
TZOFFSETTO:-0800
TZNAME:PST
DTSTART:20151101T090000
END:STANDARD
BEGIN:DAYLIGHT
TZOFFSETFROM:-0800
TZOFFSETTO:-0700
TZNAME:PDT
DTSTART:20160313T100000
END:DAYLIGHT
BEGIN:STANDARD
TZOFFSETFROM:-0700
TZOFFSETTO:-0800
TZNAME:PST
DTSTART:20161106T090000
END:STANDARD
BEGIN:DAYLIGHT
TZOFFSETFROM:-0800
TZOFFSETTO:-0700
TZNAME:PDT
DTSTART:20170312T100000
END:DAYLIGHT
BEGIN:STANDARD
TZOFFSETFROM:-0700
TZOFFSETTO:-0800
TZNAME:PST
DTSTART:20171105T090000
END:STANDARD
BEGIN:DAYLIGHT
TZOFFSETFROM:-0800
TZOFFSETTO:-0700
TZNAME:PDT
DTSTART:20180311T100000
END:DAYLIGHT
BEGIN:STANDARD
TZOFFSETFROM:-0700
TZOFFSETTO:-0800
TZNAME:PST
DTSTART:20181104T090000
END:STANDARD
BEGIN:DAYLIGHT
TZOFFSETFROM:-0800
TZOFFSETTO:-0700
TZNAME:PDT
DTSTART:20190310T100000
END:DAYLIGHT
BEGIN:STANDARD
TZOFFSETFROM:-0700
TZOFFSETTO:-0800
TZNAME:PST
DTSTART:20191103T090000
END:STANDARD
BEGIN:DAYLIGHT
TZOFFSETFROM:-0800
TZOFFSETTO:-0700
TZNAME:PDT
DTSTART:20200308T100000
END:DAYLIGHT
BEGIN:STANDARD
TZOFFSETFROM:-0700
TZOFFSETTO:-0800
TZNAME:PST
DTSTART:20201101T090000
END:STANDARD
END:VTIMEZONE
BEGIN:VEVENT
DTSTART;TZID=America/Los_Angeles:20190803T090000
DTEND;TZID=America/Los_Angeles:20190803T140000
DTSTAMP:20260422T223834
CREATED:20190617T225903Z
LAST-MODIFIED:20190727T001237Z
UID:1445-1564822800-1564840800@truckeetrails.org
SUMMARY:OTB TRAIL DAY!
DESCRIPTION:GIVE BACK TO YOUR FAVORITE TRAILS\nWhat to Bring | Wear field clothes such as long pants\, sturdy shoes and sunglasses. In your backpack please bring at least 2 quarts of water\, sunscreen and bug spray. \nWhere to Meet | TBD and will be e-mailed to registered volunteers prior to the scheduled event.  Please note that this trail day requires a 1-mile hike into the work location! \nNo Training Required! We will provide all training and necessary trail tools. \nFREE Lunch & Beverages for all registered volunteers! \n*Kids are welcome but must be accompanied by an adult. \nSIGN-UP TO VOLUNTEER
URL:https://truckeetrails.org/event/otb-trail-day/
CATEGORIES:Good Dirty Fun Trail Days
ATTACH;FMTTYPE=image/jpeg:https://truckeetrails.org/wp-content/uploads/2019/06/TTF_TrailDays_FB_820x360_OTB.jpg
END:VEVENT
BEGIN:VEVENT
DTSTART;TZID=America/Los_Angeles:20190608T080000
DTEND;TZID=America/Los_Angeles:20190608T140000
DTSTAMP:20260422T223834
CREATED:20190531T184255Z
LAST-MODIFIED:20190617T224236Z
UID:1420-1559980800-1560002400@truckeetrails.org
SUMMARY:A1/JACKASS TRAIL DAY!
DESCRIPTION:GIVE BACK TO YOUR FAVORITE TRAILS\nWhat to Bring | Wear field clothes such as long pants\, sturdy shoes and sunglasses. In your backpack please bring at least 2 quarts of water\, sunscreen and bug spray. \nWhere to Meet | TBD and will be e-mailed to registered volunteers prior to the scheduled event. \nNo Training Required! We will provide all training and necessary trail tools. \nFREE Lunch & Beverages for all registered volunteers! \n*Kids are welcome but must be accompanied by an adult. \nSIGN-UP TO VOLUNTEER
URL:https://truckeetrails.org/event/trail-day-a1-jackass-trail/
CATEGORIES:Good Dirty Fun Trail Days
ATTACH;FMTTYPE=image/jpeg:https://truckeetrails.org/wp-content/uploads/2019/05/TTF_TrailDays_Facebook_820x360_060819_v1-1.jpg
END:VEVENT
BEGIN:VEVENT
DTSTART;TZID=America/Los_Angeles:20180908T010000
DTEND;TZID=America/Los_Angeles:20180908T070000
DTSTAMP:20260422T223834
CREATED:20180520T023605Z
LAST-MODIFIED:20180906T062502Z
UID:1228-1536368400-1536390000@truckeetrails.org
SUMMARY:CANCELLED!  Good Dirty Fun Trail Days | Hole in the Ground
DESCRIPTION:We appreciate your interest in our Trail Day\, but have had to cancel this Trail Day for a variety of reasons — our crew & the USFS requires more time to figure out the approach to the maintenance of this trail. Along with a surrounding fire is only 10% contained as of 9/4/2018. \n— \nWhere to Meet | TBD \nFREE Lunch & T-Shirts for all registered volunteers! \nWhat to Bring\nWear field clothes such as long pants\, sturdy shoes and sunglasses. In your backpack please bring at least 2 quarts of water\, sunscreen and bug spray. \nNo Training Required!\nWe will provide all training and necessary trail tools. \n*Kids are welcome but must be accompanied by an adult. \nSIGN-UP TO VOLUNTEER
URL:https://truckeetrails.org/event/good-dirty-fun-trail-days-hole-ground/
CATEGORIES:Good Dirty Fun Trail Days
ATTACH;FMTTYPE=image/jpeg:https://truckeetrails.org/wp-content/uploads/2018/05/TTF-5.jpg
END:VEVENT
BEGIN:VEVENT
DTSTART;TZID=America/Los_Angeles:20180811T010000
DTEND;TZID=America/Los_Angeles:20180811T070000
DTSTAMP:20260422T223834
CREATED:20180520T023025Z
LAST-MODIFIED:20180520T023306Z
UID:1224-1533949200-1533970800@truckeetrails.org
SUMMARY:Good Dirty Fun Trail Days | Summit Lake Trail
DESCRIPTION:Where to Meet | TBD \nFREE Lunch & T-Shirts for all registered volunteers! \nWhat to Bring\nWear field clothes such as long pants\, sturdy shoes and sunglasses. In your backpack please bring at least 2 quarts of water\, sunscreen and bug spray. \nNo Training Required!\nWe will provide all training and necessary trail tools. \n*Kids are welcome but must be accompanied by an adult. \nSIGN-UP TO VOLUNTEER
URL:https://truckeetrails.org/event/good-dirty-fun-trail-days-summit-lake-trail/
CATEGORIES:Good Dirty Fun Trail Days
ATTACH;FMTTYPE=image/jpeg:https://truckeetrails.org/wp-content/uploads/2018/05/TTF-8.jpg
END:VEVENT
BEGIN:VEVENT
DTSTART;TZID=America/Los_Angeles:20180630T010000
DTEND;TZID=America/Los_Angeles:20180630T070000
DTSTAMP:20260422T223834
CREATED:20180520T022616Z
LAST-MODIFIED:20180520T022837Z
UID:1219-1530320400-1530342000@truckeetrails.org
SUMMARY:Good Dirty Fun Trail Days | Granite Chief
DESCRIPTION:Where to Meet | TBD \nFREE Lunch & T-Shirts for all registered volunteers! \nWhat to Bring\nWear field clothes such as long pants\, sturdy shoes and sunglasses. In your backpack please bring at least 2 quarts of water\, sunscreen and bug spray. \nNo Training Required!\nWe will provide all training and necessary trail tools. \n*Kids are welcome but must be accompanied by an adult. \nSIGN-UP TO VOLUNTEER
URL:https://truckeetrails.org/event/good-dirty-fun-trail-days-granite-chief/
CATEGORIES:Good Dirty Fun Trail Days
ATTACH;FMTTYPE=image/jpeg:https://truckeetrails.org/wp-content/uploads/2018/05/TTF-18.jpg
END:VEVENT
BEGIN:VEVENT
DTSTART;TZID=America/Los_Angeles:20170805T020000
DTEND;TZID=America/Los_Angeles:20170805T063000
DTSTAMP:20260422T223834
CREATED:20170714T090950Z
LAST-MODIFIED:20170715T065416Z
UID:973-1501898400-1501914600@truckeetrails.org
SUMMARY:Good Dirty Fun Trail Day : Alder Creek (Upper Emigrant)
DESCRIPTION:Where to Meet\nDonner Camp Picnic Area \nWhat We’re Doing\nWorking on the Alder Creek (Upper Emigrant) trail re-route and rehabilitation\n \nFood & Drink\nSack lunch provided! \nWhat to Bring\nWear field clothes such as long pants\, sturdy shoes and sunglasses. In your backpack please bring at least 2 quarts of water\, sunscreen and bug spray. \nNo Training Required!\nWe will provide all training and necessary trail tools. \n*Kids are welcome but must be accompanied by an adult \nEvent sponsored by Tahoe Truckee Airport District\, REI\, and National Forest Foundation. \nSIGN-UP TO VOLUNTEER
URL:https://truckeetrails.org/event/aldercreek2/
CATEGORIES:Good Dirty Fun Trail Days
ATTACH;FMTTYPE=image/jpeg:https://truckeetrails.org/wp-content/uploads/2016/04/TTF-19-web.jpg
END:VEVENT
BEGIN:VEVENT
DTSTART;TZID=America/Los_Angeles:20170802T020000
DTEND;TZID=America/Los_Angeles:20170802T063000
DTSTAMP:20260422T223834
CREATED:20170714T090735Z
LAST-MODIFIED:20170715T065219Z
UID:970-1501639200-1501655400@truckeetrails.org
SUMMARY:Good Dirty Fun Trail Day : Alder Creek (Upper Emigrant)
DESCRIPTION:Where to Meet\nDonner Camp Picnic Area \nWhat We’re Doing\nWorking on the Alder Creek (Upper Emigrant) trail re-route and rehabilitation\n \nFood & Drink\nSack lunch provided! \nWhat to Bring\nWear field clothes such as long pants\, sturdy shoes and sunglasses. In your backpack please bring at least 2 quarts of water\, sunscreen and bug spray. \nNo Training Required!\nWe will provide all training and necessary trail tools. \n*Kids are welcome but must be accompanied by an adult \nEvent sponsored by Tahoe Truckee Airport District\, REI\, and National Forest Foundation. \nSIGN-UP TO VOLUNTEER
URL:https://truckeetrails.org/event/aldercreek1/
CATEGORIES:Good Dirty Fun Trail Days
ATTACH;FMTTYPE=image/jpeg:https://truckeetrails.org/wp-content/uploads/2016/04/TTF-5-web.jpg
END:VEVENT
BEGIN:VEVENT
DTSTART;TZID=America/Los_Angeles:20160917T013000
DTEND;TZID=America/Los_Angeles:20160917T083000
DTSTAMP:20260422T223834
CREATED:20160409T110947Z
LAST-MODIFIED:20160526T144946Z
UID:32-1474075800-1474101000@truckeetrails.org
SUMMARY:Good Dirty Fun Trail Days : Emigrant Trail
DESCRIPTION:Where to Meet\nMeet at the Donner Camp parking lot. \nFoods & Drinks\nLunch & beverages will be provided for all volunteers. \nWhat to Bring\nWear field clothes such as long pants\, sturdy shoes and sunglasses. In your backpack please bring at least 2 quarts of water\, sunscreen and bug spray. \nNo Training Required!\nWe will provide all training and necessary trail tools. \n*Kids are welcome but must be accompanied by an adult \nEvent sponsored by Tahoe Oral Surgery and Implant Center. \n  \nSIGN-UP TO VOLUNTEER
URL:https://truckeetrails.org/event/good-dirty-fun-trail-days-emigrant-trail/
CATEGORIES:Good Dirty Fun Trail Days
ATTACH;FMTTYPE=image/jpeg:https://truckeetrails.org/wp-content/uploads/2016/04/TTF-5-web.jpg
END:VEVENT
BEGIN:VEVENT
DTSTART;TZID=America/Los_Angeles:20160806T013000
DTEND;TZID=America/Los_Angeles:20160806T083000
DTSTAMP:20260422T223834
CREATED:20160409T110756Z
LAST-MODIFIED:20160609T075012Z
UID:31-1470447000-1470472200@truckeetrails.org
SUMMARY:Good Dirty Fun Trail Days : Hole in the Ground
DESCRIPTION:Where to Meet\nMeeting at the PCT trailhead parking lot off of I-80 (Boreal Exit). \nFoods & Drinks\nLunch & beverages will be provided for all volunteers. \nWhat to Bring\nWear field clothes such as long pants\, sturdy shoes and sunglasses. In your backpack please bring at least 2 quarts of water\, sunscreen and bug spray. \nNo Training Required!\nWe will provide all training and necessary trail tools. \n*Kids are welcome but must be accompanied by an adult \nEvent sponsored by Olympic Bike Shop and Tahoe Dave’s Skis & Boards. \n  \nSIGN-UP TO VOLUNTEER
URL:https://truckeetrails.org/event/good-dirty-fun-trail-days-summit-lake/
CATEGORIES:Good Dirty Fun Trail Days
ATTACH;FMTTYPE=image/jpeg:https://truckeetrails.org/wp-content/uploads/2016/04/TTF-14-web.jpg
END:VEVENT
BEGIN:VEVENT
DTSTART;TZID=America/Los_Angeles:20160709T013000
DTEND;TZID=America/Los_Angeles:20160709T083000
DTSTAMP:20260422T223834
CREATED:20160409T110606Z
LAST-MODIFIED:20160531T100128Z
UID:30-1468027800-1468053000@truckeetrails.org
SUMMARY:Good Dirty Fun Trail Days : Shirley Canyon
DESCRIPTION:Where to Meet\nMeet at Olympic Valley Lodge – 1901 Chamonix Place. \nFoods & Drinks\nCoffee and muffins will be provided in the morning\, along with lunch on the trail and beer/soda in the afternoon for all volunteers. \nWhat to Bring\nWear field clothes such as long pants\, sturdy shoes and sunglasses. In your backpack please bring at least 2 quarts of water\, sunscreen and bug spray. \nNo Training Required!\nWe will provide all training and necessary trail tools. \n*Kids are welcome but must be accompanied by an adult \nEvent sponsored by Squaw Valley Ski Holdings\, Resort at Squaw Creek and Plumpjack. \n  \nSIGN-UP TO VOLUNTEER
URL:https://truckeetrails.org/event/good-dirty-fun-trail-days-shirley-canyon/
CATEGORIES:Good Dirty Fun Trail Days
ATTACH;FMTTYPE=image/jpeg:https://truckeetrails.org/wp-content/uploads/2016/04/TTF-7-web.jpg
END:VEVENT
BEGIN:VEVENT
DTSTART;TZID=America/Los_Angeles:20160625T013000
DTEND;TZID=America/Los_Angeles:20160625T083000
DTSTAMP:20260422T223834
CREATED:20160409T103259Z
LAST-MODIFIED:20160526T145858Z
UID:26-1466818200-1466843400@truckeetrails.org
SUMMARY:Good Dirty Fun Trail Days : Sawtooth
DESCRIPTION:Where to Meet\nMeet at the Sawtooth Trailhead – USFS Road 06 off of Thelin Drive in Sierra Meadows. \nFoods & Drinks\nLunch & beverages will be provided for all volunteers. \nWhat to Bring\nWear field clothes such as long pants\, sturdy shoes and sunglasses. In your backpack please bring at least 2 quarts of water\, sunscreen and bug spray. \nNo Training Required!\nWe will provide all training and necessary trail tools. \n*Kids are welcome but must be accompanied by an adult \nEvent sponsored by Tahoe Mountain Guides\, Cyclepaths\, Tahoe Sports Hub\, Deschutes Brewery and Diego’s. \n. \nSIGN-UP TO VOLUNTEER
URL:https://truckeetrails.org/event/good-dirty-fun-trail-days-sawtooth/
CATEGORIES:Good Dirty Fun Trail Days
ATTACH;FMTTYPE=image/jpeg:https://truckeetrails.org/wp-content/uploads/2016/04/TTF-19-web.jpg
END:VEVENT
END:VCALENDAR